{"text_format":"1","workbook":"xlsx","n_sheets":4,"sheets":["infos échantillons","plan de plaque PCR1","Pre-requis bioinfo ADN","Version"],"not_rendered":{"charts":0,"images":0,"macros":0,"external_links":0,"defined_names":34,"comments":0,"pivot_tables":0},"unopened":[],"bounds":{"document_bytes":16777216,"sheet_cells":100000,"rows_first":2000,"rows_last":500,"rows_between":2000,"halvings":0,"cell_chars":16384,"cell_head_chars":4096},"cells_cut":0,"cells_raw":0,"read":"whole","date_system":"1900"}

{"sheet":"infos échantillons","index":0,"n_rows":423,"n_cols":6,"rows_kept":423,"cut":false,"hidden":false,"merged":[[15,1,15,2],[2,4,3,8],[7,4,7,8],[8,4,8,8],[6,4,6,8],[5,4,5,8],[4,4,4,8],[11,1,11,4],[12,3,12,4],[13,1,13,2],[13,3,13,4],[14,1,14,2],[14,3,14,4],[22,1,22,2],[22,3,22,4],[23,1,23,2],[23,3,23,4],[24,1,24,2],[24,3,24,4],[19,1,19,2],[19,3,19,4],[20,1,20,2],[21,1,21,2],[21,3,21,4],[0,0,0,3],[0,4,0,9],[2,1,2,2],[37,1,37,5],[28,1,28,4],[29,1,29,4],[30,1,30,4],[31,1,31,4],[26,1,26,4],[27,1,27,4],[16,1,16,2],[16,3,16,4],[17,1,17,2],[17,3,17,4],[18,1,18,2],[18,3,18,4]]}
["Fiche échantillon pour le projet  : "]
[]
[null,"Pré-requis ADN ",null,null,"Merci de ne pas modifier ni l'emplacement des colonnes ni leurs titres"]
[null,"concentration min. :","30 ng/µl"]
[null,"Volume :","50 µL"]
[null,"Pureté 260/280 :","1,8",null,"a si vos échantillons ne valident pas les pré-requis, contacter la plateforme"]
[null,"Pureté 260/230 :","1,8"]
[null,null,null,null,"* Choisir des noms d'échantillons courts sans caractères spéciaux (espaces, virgules, points, underscores …) sauf tiret toléré"]
[]
[null,"Consultez le document Prérequis pour plus d'information"]
[]
[null,"A renseigner par l'équipe de recherche"]
[]
[null,"Nature de la matrice"]
[null,"Espèce"]
[null,"Méthode d'extraction"]
[null,"Elution",null,"eau / TE / lyoph"]
[null,"Nombre d'échantillons"]
[null,"Nombre de lanes"]
[null,"Multiplexage",null,"n-plex / non"]
[]
[null,"Génome de référence disponible"]
[null,"Transcriptome de référence disponible"]
[null,"Référence Génome"]
[null,"Référence Transcriptome"]
[]
[null,"1/ Inserts length corresponding to the length of the targeted region without adaptors."]
[null,"2/ Samples must be one after the other in column, without empty wells."]
[null,"3/ Please put the samples (PCR1 products) in 96 wells plates (plate reference AB1400L or 4titude 0770/C), correctly sealed. \n     FYI, we use transparent adhesive films for PCR (4titude)"]
[null,"4/ Choose short sample names, without special characters (space, coma, dotes, underscores …), dashes tolerated."]
[null,"5/ For sample names with numbers, please add an apostrophe at the beginning (for example : ‘123)"]
[null,"6/ Do not put the same sample name twice."]
[]
[]
[]
[]
[]
[null," Liste définitive utilisée pour le run Miseq"]
[null,"Nom Plaque","Corrdonnée de l'échantillon","Numéro de puit","Nom Echantillon ","Taille de l'insert (pb)"]
[null,"ADN1","A01",1]
[null,"ADN1","B01",2]
[null,"ADN1","C01",3]
[null,"ADN1","D01",4]
[null,"ADN1","E01",5]
[null,"ADN1","F01",6]
[null,"ADN1","G01",7]
[null,"ADN1","H01",8]
[null,"ADN1","A02",9]
[null,"ADN1","B02",10]
[null,"ADN1","C02",11]
[null,"ADN1","D02",12]
[null,"ADN1","E02",13]
[null,"ADN1","F02",14]
[null,"ADN1","G02",15]
[null,"ADN1","H02",16]
[null,"ADN1","A03",17]
[null,"ADN1","B03",18]
[null,"ADN1","C03",19]
[null,"ADN1","D03",20]
[null,"ADN1","E03",21]
[null,"ADN1","F03",22]
[null,"ADN1","G03",23]
[null,"ADN1","H03",24]
[null,"ADN1","A04",25]
[null,"ADN1","B04",26]
[null,"ADN1","C04",27]
[null,"ADN1","D04",28]
[null,"ADN1","E04",29]
[null,"ADN1","F04",30]
[null,"ADN1","G04",31]
[null,"ADN1","H04",32]
[null,"ADN1","A05",33]
[null,"ADN1","B05",34]
[null,"ADN1","C05",35]
[null,"ADN1","D05",36]
[null,"ADN1","E05",37]
[null,"ADN1","F05",38]
[null,"ADN1","G05",39]
[null,"ADN1","H05",40]
[null,"ADN1","A06",41]
[null,"ADN1","B06",42]
[null,"ADN1","C06",43]
[null,"ADN1","D06",44]
[null,"ADN1","E06",45]
[null,"ADN1","F06",46]
[null,"ADN1","G06",47]
[null,"ADN1","H06",48]
[null,"ADN1","A07",49]
[null,"ADN1","B07",50]
[null,"ADN1","C07",51]
[null,"ADN1","D07",52]
[null,"ADN1","E07",53]
[null,"ADN1","F07",54]
[null,"ADN1","G07",55]
[null,"ADN1","H07",56]
[null,"ADN1","A08",57]
[null,"ADN1","B08",58]
[null,"ADN1","C08",59]
[null,"ADN1","D08",60]
[null,"ADN1","E08",61]
[null,"ADN1","F08",62]
[null,"ADN1","G08",63]
[null,"ADN1","H08",64]
[null,"ADN1","A09",65]
[null,"ADN1","B09",66]
[null,"ADN1","C09",67]
[null,"ADN1","D09",68]
[null,"ADN1","E09",69]
[null,"ADN1","F09",70]
[null,"ADN1","G09",71]
[null,"ADN1","H09",72]
[null,"ADN1","A10",73]
[null,"ADN1","B10",74]
[null,"ADN1","C10",75]
[null,"ADN1","D10",76]
[null,"ADN1","E10",77]
[null,"ADN1","F10",78]
[null,"ADN1","G10",79]
[null,"ADN1","H10",80]
[null,"ADN1","A11",81]
[null,"ADN1","B11",82]
[null,"ADN1","C11",83]
[null,"ADN1","D11",84]
[null,"ADN1","E11",85]
[null,"ADN1","F11",86]
[null,"ADN1","G11",87]
[null,"ADN1","H11",88]
[null,"ADN1","A12",89]
[null,"ADN1","B12",90]
[null,"ADN1","C12",91]
[null,"ADN1","D12",92]
[null,"ADN1","E12",93]
[null,"ADN1","F12",94]
[null,"ADN1","G12",95]
[null,"ADN1","H12",96]
[null,"ADN2","A01",1]
[null,"ADN2","B01",2]
[null,"ADN2","C01",3]
[null,"ADN2","D01",4]
[null,"ADN2","E01",5]
[null,"ADN2","F01",6]
[null,"ADN2","G01",7]
[null,"ADN2","H01",8]
[null,"ADN2","A02",9]
[null,"ADN2","B02",10]
[null,"ADN2","C02",11]
[null,"ADN2","D02",12]
[null,"ADN2","E02",13]
[null,"ADN2","F02",14]
[null,"ADN2","G02",15]
[null,"ADN2","H02",16]
[null,"ADN2","A03",17]
[null,"ADN2","B03",18]
[null,"ADN2","C03",19]
[null,"ADN2","D03",20]
[null,"ADN2","E03",21]
[null,"ADN2","F03",22]
[null,"ADN2","G03",23]
[null,"ADN2","H03",24]
[null,"ADN2","A04",25]
[null,"ADN2","B04",26]
[null,"ADN2","C04",27]
[null,"ADN2","D04",28]
[null,"ADN2","E04",29]
[null,"ADN2","F04",30]
[null,"ADN2","G04",31]
[null,"ADN2","H04",32]
[null,"ADN2","A05",33]
[null,"ADN2","B05",34]
[null,"ADN2","C05",35]
[null,"ADN2","D05",36]
[null,"ADN2","E05",37]
[null,"ADN2","F05",38]
[null,"ADN2","G05",39]
[null,"ADN2","H05",40]
[null,"ADN2","A06",41]
[null,"ADN2","B06",42]
[null,"ADN2","C06",43]
[null,"ADN2","D06",44]
[null,"ADN2","E06",45]
[null,"ADN2","F06",46]
[null,"ADN2","G06",47]
[null,"ADN2","H06",48]
[null,"ADN2","A07",49]
[null,"ADN2","B07",50]
[null,"ADN2","C07",51]
[null,"ADN2","D07",52]
[null,"ADN2","E07",53]
[null,"ADN2","F07",54]
[null,"ADN2","G07",55]
[null,"ADN2","H07",56]
[null,"ADN2","A08",57]
[null,"ADN2","B08",58]
[null,"ADN2","C08",59]
[null,"ADN2","D08",60]
[null,"ADN2","E08",61]
[null,"ADN2","F08",62]
[null,"ADN2","G08",63]
[null,"ADN2","H08",64]
[null,"ADN2","A09",65]
[null,"ADN2","B09",66]
[null,"ADN2","C09",67]
[null,"ADN2","D09",68]
[null,"ADN2","E09",69]
[null,"ADN2","F09",70]
[null,"ADN2","G09",71]
[null,"ADN2","H09",72]
[null,"ADN2","A10",73]
[null,"ADN2","B10",74]
[null,"ADN2","C10",75]
[null,"ADN2","D10",76]
[null,"ADN2","E10",77]
[null,"ADN2","F10",78]
[null,"ADN2","G10",79]
[null,"ADN2","H10",80]
[null,"ADN2","A11",81]
[null,"ADN2","B11",82]
[null,"ADN2","C11",83]
[null,"ADN2","D11",84]
[null,"ADN2","E11",85]
[null,"ADN2","F11",86]
[null,"ADN2","G11",87]
[null,"ADN2","H11",88]
[null,"ADN2","A12",89]
[null,"ADN2","B12",90]
[null,"ADN2","C12",91]
[null,"ADN2","D12",92]
[null,"ADN2","E12",93]
[null,"ADN2","F12",94]
[null,"ADN2","G12",95]
[null,"ADN2","H12",96]
[null,"ADN3","A01",1]
[null,"ADN3","B01",2]
[null,"ADN3","C01",3]
[null,"ADN3","D01",4]
[null,"ADN3","E01",5]
[null,"ADN3","F01",6]
[null,"ADN3","G01",7]
[null,"ADN3","H01",8]
[null,"ADN3","A02",9]
[null,"ADN3","B02",10]
[null,"ADN3","C02",11]
[null,"ADN3","D02",12]
[null,"ADN3","E02",13]
[null,"ADN3","F02",14]
[null,"ADN3","G02",15]
[null,"ADN3","H02",16]
[null,"ADN3","A03",17]
[null,"ADN3","B03",18]
[null,"ADN3","C03",19]
[null,"ADN3","D03",20]
[null,"ADN3","E03",21]
[null,"ADN3","F03",22]
[null,"ADN3","G03",23]
[null,"ADN3","H03",24]
[null,"ADN3","A04",25]
[null,"ADN3","B04",26]
[null,"ADN3","C04",27]
[null,"ADN3","D04",28]
[null,"ADN3","E04",29]
[null,"ADN3","F04",30]
[null,"ADN3","G04",31]
[null,"ADN3","H04",32]
[null,"ADN3","A05",33]
[null,"ADN3","B05",34]
[null,"ADN3","C05",35]
[null,"ADN3","D05",36]
[null,"ADN3","E05",37]
[null,"ADN3","F05",38]
[null,"ADN3","G05",39]
[null,"ADN3","H05",40]
[null,"ADN3","A06",41]
[null,"ADN3","B06",42]
[null,"ADN3","C06",43]
[null,"ADN3","D06",44]
[null,"ADN3","E06",45]
[null,"ADN3","F06",46]
[null,"ADN3","G06",47]
[null,"ADN3","H06",48]
[null,"ADN3","A07",49]
[null,"ADN3","B07",50]
[null,"ADN3","C07",51]
[null,"ADN3","D07",52]
[null,"ADN3","E07",53]
[null,"ADN3","F07",54]
[null,"ADN3","G07",55]
[null,"ADN3","H07",56]
[null,"ADN3","A08",57]
[null,"ADN3","B08",58]
[null,"ADN3","C08",59]
[null,"ADN3","D08",60]
[null,"ADN3","E08",61]
[null,"ADN3","F08",62]
[null,"ADN3","G08",63]
[null,"ADN3","H08",64]
[null,"ADN3","A09",65]
[null,"ADN3","B09",66]
[null,"ADN3","C09",67]
[null,"ADN3","D09",68]
[null,"ADN3","E09",69]
[null,"ADN3","F09",70]
[null,"ADN3","G09",71]
[null,"ADN3","H09",72]
[null,"ADN3","A10",73]
[null,"ADN3","B10",74]
[null,"ADN3","C10",75]
[null,"ADN3","D10",76]
[null,"ADN3","E10",77]
[null,"ADN3","F10",78]
[null,"ADN3","G10",79]
[null,"ADN3","H10",80]
[null,"ADN3","A11",81]
[null,"ADN3","B11",82]
[null,"ADN3","C11",83]
[null,"ADN3","D11",84]
[null,"ADN3","E11",85]
[null,"ADN3","F11",86]
[null,"ADN3","G11",87]
[null,"ADN3","H11",88]
[null,"ADN3","A12",89]
[null,"ADN3","B12",90]
[null,"ADN3","C12",91]
[null,"ADN3","D12",92]
[null,"ADN3","E12",93]
[null,"ADN3","F12",94]
[null,"ADN3","G12",95]
[null,"ADN3","H12",96]
[null,"ADN4","A01",1]
[null,"ADN4","B01",2]
[null,"ADN4","C01",3]
[null,"ADN4","D01",4]
[null,"ADN4","E01",5]
[null,"ADN4","F01",6]
[null,"ADN4","G01",7]
[null,"ADN4","H01",8]
[null,"ADN4","A02",9]
[null,"ADN4","B02",10]
[null,"ADN4","C02",11]
[null,"ADN4","D02",12]
[null,"ADN4","E02",13]
[null,"ADN4","F02",14]
[null,"ADN4","G02",15]
[null,"ADN4","H02",16]
[null,"ADN4","A03",17]
[null,"ADN4","B03",18]
[null,"ADN4","C03",19]
[null,"ADN4","D03",20]
[null,"ADN4","E03",21]
[null,"ADN4","F03",22]
[null,"ADN4","G03",23]
[null,"ADN4","H03",24]
[null,"ADN4","A04",25]
[null,"ADN4","B04",26]
[null,"ADN4","C04",27]
[null,"ADN4","D04",28]
[null,"ADN4","E04",29]
[null,"ADN4","F04",30]
[null,"ADN4","G04",31]
[null,"ADN4","H04",32]
[null,"ADN4","A05",33]
[null,"ADN4","B05",34]
[null,"ADN4","C05",35]
[null,"ADN4","D05",36]
[null,"ADN4","E05",37]
[null,"ADN4","F05",38]
[null,"ADN4","G05",39]
[null,"ADN4","H05",40]
[null,"ADN4","A06",41]
[null,"ADN4","B06",42]
[null,"ADN4","C06",43]
[null,"ADN4","D06",44]
[null,"ADN4","E06",45]
[null,"ADN4","F06",46]
[null,"ADN4","G06",47]
[null,"ADN4","H06",48]
[null,"ADN4","A07",49]
[null,"ADN4","B07",50]
[null,"ADN4","C07",51]
[null,"ADN4","D07",52]
[null,"ADN4","E07",53]
[null,"ADN4","F07",54]
[null,"ADN4","G07",55]
[null,"ADN4","H07",56]
[null,"ADN4","A08",57]
[null,"ADN4","B08",58]
[null,"ADN4","C08",59]
[null,"ADN4","D08",60]
[null,"ADN4","E08",61]
[null,"ADN4","F08",62]
[null,"ADN4","G08",63]
[null,"ADN4","H08",64]
[null,"ADN4","A09",65]
[null,"ADN4","B09",66]
[null,"ADN4","C09",67]
[null,"ADN4","D09",68]
[null,"ADN4","E09",69]
[null,"ADN4","F09",70]
[null,"ADN4","G09",71]
[null,"ADN4","H09",72]
[null,"ADN4","A10",73]
[null,"ADN4","B10",74]
[null,"ADN4","C10",75]
[null,"ADN4","D10",76]
[null,"ADN4","E10",77]
[null,"ADN4","F10",78]
[null,"ADN4","G10",79]
[null,"ADN4","H10",80]
[null,"ADN4","A11",81]
[null,"ADN4","B11",82]
[null,"ADN4","C11",83]
[null,"ADN4","D11",84]
[null,"ADN4","E11",85]
[null,"ADN4","F11",86]
[null,"ADN4","G11",87]
[null,"ADN4","H11",88]
[null,"ADN4","A12",89]
[null,"ADN4","B12",90]
[null,"ADN4","C12",91]
[null,"ADN4","D12",92]
[null,"ADN4","E12",93]
[null,"ADN4","F12",94]
[null,"ADN4","G12",95]
[null,"ADN4","H12",96]

{"sheet":"plan de plaque PCR1","index":1,"n_rows":45,"n_cols":15,"rows_kept":45,"cut":false,"hidden":false,"merged":[[0,0,0,15]]}
["PCR2 : Plan de plaque définitif "]
[]
[]
["ADN 1",null,null,1,2,3,4,5,6,7,8,9,10,11,12]
[null,null,"A",{"$f":"IF('infos échantillons'!E40<>\"\",'infos échantillons'!$E$40,\"\")","v":""},{"$f":"IF('infos échantillons'!E48<>\"\",'infos échantillons'!$E$48,\"\")","v":""},{"$f":"IF('infos échantillons'!E56<>\"\",'infos échantillons'!$E$56,\"\")","v":""},{"$f":"IF('infos échantillons'!E64<>\"\",'infos échantillons'!$E$64,\"\")","v":""},{"$f":"IF('infos échantillons'!E72<>\"\",'infos échantillons'!$E$72,\"\")","v":""},{"$f":"IF('infos échantillons'!E80<>\"\",'infos échantillons'!$E$80,\"\")","v":""},{"$f":"IF('infos échantillons'!E88<>\"\",'infos échantillons'!$E$88,\"\")","v":""},{"$f":"IF('infos échantillons'!E96<>\"\",'infos échantillons'!$E$96,\"\")","v":""},{"$f":"IF('infos échantillons'!E104<>\"\",'infos échantillons'!$E$104,\"\")","v":""},{"$f":"IF('infos échantillons'!E112<>\"\",'infos échantillons'!$E$112,\"\")","v":""},{"$f":"IF('infos échantillons'!E120<>\"\",'infos échantillons'!$E$120,\"\")","v":""},{"$f":"IF('infos échantillons'!E128<>\"\",'infos échantillons'!$E$128,\"\")","v":""}]
[null,null,"B",{"$f":"IF('infos échantillons'!E41<>\"\",'infos échantillons'!$E$41,\"\")","v":""},{"$f":"IF('infos échantillons'!E49<>\"\",'infos échantillons'!$E$49,\"\")","v":""},{"$f":"IF('infos échantillons'!E57<>\"\",'infos échantillons'!$E$57,\"\")","v":""},{"$f":"IF('infos échantillons'!E65<>\"\",'infos échantillons'!$E$65,\"\")","v":""},{"$f":"IF('infos échantillons'!E73<>\"\",'infos échantillons'!$E$73,\"\")","v":""},{"$f":"IF('infos échantillons'!E81<>\"\",'infos échantillons'!$E$81,\"\")","v":""},{"$f":"IF('infos échantillons'!E89<>\"\",'infos échantillons'!$E$89,\"\")","v":""},{"$f":"IF('infos échantillons'!E97<>\"\",'infos échantillons'!$E$97,\"\")","v":""},{"$f":"IF('infos échantillons'!E105<>\"\",'infos échantillons'!$E$105,\"\")","v":""},{"$f":"IF('infos échantillons'!E113<>\"\",'infos échantillons'!$E$113,\"\")","v":""},{"$f":"IF('infos échantillons'!E121<>\"\",'infos échantillons'!$E$121,\"\")","v":""},{"$f":"IF('infos échantillons'!E129<>\"\",'infos échantillons'!$E$129,\"\")","v":""}]
[null,null,"C",{"$f":"IF('infos échantillons'!E42<>\"\",'infos échantillons'!$E$42,\"\")","v":""},{"$f":"IF('infos échantillons'!E50<>\"\",'infos échantillons'!$E$50,\"\")","v":""},{"$f":"IF('infos échantillons'!E58<>\"\",'infos échantillons'!$E$58,\"\")","v":""},{"$f":"IF('infos échantillons'!E66<>\"\",'infos échantillons'!$E$66,\"\")","v":""},{"$f":"IF('infos échantillons'!E74<>\"\",'infos échantillons'!$E$74,\"\")","v":""},{"$f":"IF('infos échantillons'!E82<>\"\",'infos échantillons'!$E$82,\"\")","v":""},{"$f":"IF('infos échantillons'!E90<>\"\",'infos échantillons'!$E$90,\"\")","v":""},{"$f":"IF('infos échantillons'!E98<>\"\",'infos échantillons'!$E$98,\"\")","v":""},{"$f":"IF('infos échantillons'!E106<>\"\",'infos échantillons'!$E$106,\"\")","v":""},{"$f":"IF('infos échantillons'!E114<>\"\",'infos échantillons'!$E$114,\"\")","v":""},{"$f":"IF('infos échantillons'!E122<>\"\",'infos échantillons'!$E$122,\"\")","v":""},{"$f":"IF('infos échantillons'!E130<>\"\",'infos échantillons'!$E$130,\"\")","v":""}]
[null,null,"D",{"$f":"IF('infos échantillons'!E43<>\"\",'infos échantillons'!$E$43,\"\")","v":""},{"$f":"IF('infos échantillons'!E51<>\"\",'infos échantillons'!$E$51,\"\")","v":""},{"$f":"IF('infos échantillons'!E59<>\"\",'infos échantillons'!$E$59,\"\")","v":""},{"$f":"IF('infos échantillons'!E67<>\"\",'infos échantillons'!$E$67,\"\")","v":""},{"$f":"IF('infos échantillons'!E75<>\"\",'infos échantillons'!$E$75,\"\")","v":""},{"$f":"IF('infos échantillons'!E83<>\"\",'infos échantillons'!$E$83,\"\")","v":""},{"$f":"IF('infos échantillons'!E91<>\"\",'infos échantillons'!$E$91,\"\")","v":""},{"$f":"IF('infos échantillons'!E99<>\"\",'infos échantillons'!$E$99,\"\")","v":""},{"$f":"IF('infos échantillons'!E107<>\"\",'infos échantillons'!$E$107,\"\")","v":""},{"$f":"IF('infos échantillons'!E115<>\"\",'infos échantillons'!$E$115,\"\")","v":""},{"$f":"IF('infos échantillons'!E123<>\"\",'infos échantillons'!$E$123,\"\")","v":""},{"$f":"IF('infos échantillons'!E131<>\"\",'infos échantillons'!$E$131,\"\")","v":""}]
[null,null,"E",{"$f":"IF('infos échantillons'!E44<>\"\",'infos échantillons'!$E$44,\"\")","v":""},{"$f":"IF('infos échantillons'!E52<>\"\",'infos échantillons'!$E$52,\"\")","v":""},{"$f":"IF('infos échantillons'!E60<>\"\",'infos échantillons'!$E$60,\"\")","v":""},{"$f":"IF('infos échantillons'!E68<>\"\",'infos échantillons'!$E$68,\"\")","v":""},{"$f":"IF('infos échantillons'!E76<>\"\",'infos échantillons'!$E$76,\"\")","v":""},{"$f":"IF('infos échantillons'!E84<>\"\",'infos échantillons'!$E$84,\"\")","v":""},{"$f":"IF('infos échantillons'!E92<>\"\",'infos échantillons'!$E$92,\"\")","v":""},{"$f":"IF('infos échantillons'!E100<>\"\",'infos échantillons'!$E$100,\"\")","v":""},{"$f":"IF('infos échantillons'!E108<>\"\",'infos échantillons'!$E$108,\"\")","v":""},{"$f":"IF('infos échantillons'!E116<>\"\",'infos échantillons'!$E$116,\"\")","v":""},{"$f":"IF('infos échantillons'!E124<>\"\",'infos échantillons'!$E$124,\"\")","v":""},{"$f":"IF('infos échantillons'!E132<>\"\",'infos échantillons'!$E$132,\"\")","v":""}]
[null,null,"F",{"$f":"IF('infos échantillons'!E45<>\"\",'infos échantillons'!$E$45,\"\")","v":""},{"$f":"IF('infos échantillons'!E53<>\"\",'infos échantillons'!$E$53,\"\")","v":""},{"$f":"IF('infos échantillons'!E61<>\"\",'infos échantillons'!$E$61,\"\")","v":""},{"$f":"IF('infos échantillons'!E69<>\"\",'infos échantillons'!$E$69,\"\")","v":""},{"$f":"IF('infos échantillons'!E77<>\"\",'infos échantillons'!$E$77,\"\")","v":""},{"$f":"IF('infos échantillons'!E85<>\"\",'infos échantillons'!$E$85,\"\")","v":""},{"$f":"IF('infos échantillons'!E93<>\"\",'infos échantillons'!$E$93,\"\")","v":""},{"$f":"IF('infos échantillons'!E101<>\"\",'infos échantillons'!$E$101,\"\")","v":""},{"$f":"IF('infos échantillons'!E109<>\"\",'infos échantillons'!$E$109,\"\")","v":""},{"$f":"IF('infos échantillons'!E117<>\"\",'infos échantillons'!$E$117,\"\")","v":""},{"$f":"IF('infos échantillons'!E125<>\"\",'infos échantillons'!$E$125,\"\")","v":""},{"$f":"IF('infos échantillons'!E133<>\"\",'infos échantillons'!$E$133,\"\")","v":""}]
[null,null,"G",{"$f":"IF('infos échantillons'!E46<>\"\",'infos échantillons'!$E$46,\"\")","v":""},{"$f":"IF('infos échantillons'!E54<>\"\",'infos échantillons'!$E$54,\"\")","v":""},{"$f":"IF('infos échantillons'!E62<>\"\",'infos échantillons'!$E$62,\"\")","v":""},{"$f":"IF('infos échantillons'!E70<>\"\",'infos échantillons'!$E$70,\"\")","v":""},{"$f":"IF('infos échantillons'!E78<>\"\",'infos échantillons'!$E$78,\"\")","v":""},{"$f":"IF('infos échantillons'!E86<>\"\",'infos échantillons'!$E$86,\"\")","v":""},{"$f":"IF('infos échantillons'!E94<>\"\",'infos échantillons'!$E$94,\"\")","v":""},{"$f":"IF('infos échantillons'!E102<>\"\",'infos échantillons'!$E$102,\"\")","v":""},{"$f":"IF('infos échantillons'!E110<>\"\",'infos échantillons'!$E$110,\"\")","v":""},{"$f":"IF('infos échantillons'!E118<>\"\",'infos échantillons'!$E$118,\"\")","v":""},{"$f":"IF('infos échantillons'!E126<>\"\",'infos échantillons'!$E$126,\"\")","v":""},{"$f":"IF('infos échantillons'!E134<>\"\",'infos échantillons'!$E$134,\"\")","v":""}]
[null,null,"H",{"$f":"IF('infos échantillons'!E47<>\"\",'infos échantillons'!$E$47,\"\")","v":""},{"$f":"IF('infos échantillons'!E55<>\"\",'infos échantillons'!$E$55,\"\")","v":""},{"$f":"IF('infos échantillons'!E63<>\"\",'infos échantillons'!$E$63,\"\")","v":""},{"$f":"IF('infos échantillons'!E71<>\"\",'infos échantillons'!$E$71,\"\")","v":""},{"$f":"IF('infos échantillons'!E79<>\"\",'infos échantillons'!$E$79,\"\")","v":""},{"$f":"IF('infos échantillons'!E87<>\"\",'infos échantillons'!$E$87,\"\")","v":""},{"$f":"IF('infos échantillons'!E95<>\"\",'infos échantillons'!$E$95,\"\")","v":""},{"$f":"IF('infos échantillons'!E103<>\"\",'infos échantillons'!$E$103,\"\")","v":""},{"$f":"IF('infos échantillons'!E111<>\"\",'infos échantillons'!$E$111,\"\")","v":""},{"$f":"IF('infos échantillons'!E119<>\"\",'infos échantillons'!$E$119,\"\")","v":""},{"$f":"IF('infos échantillons'!E127<>\"\",'infos échantillons'!$E$127,\"\")","v":""},{"$f":"IF('infos échantillons'!E135<>\"\",'infos échantillons'!$E$135,\"\")","v":""}]
[]
[]
["ADN 2",null,null,1,2,3,4,5,6,7,8,9,10,11,12]
[null,null,"A",{"$f":"IF('infos échantillons'!E136<>\"\",'infos échantillons'!$E$136,\"\")","v":""},{"$f":"IF('infos échantillons'!E144<>\"\",'infos échantillons'!$E$144,\"\")","v":""},{"$f":"IF('infos échantillons'!E152<>\"\",'infos échantillons'!$E$152,\"\")","v":""},{"$f":"IF('infos échantillons'!E160<>\"\",'infos échantillons'!$E$160,\"\")","v":""},{"$f":"IF('infos échantillons'!E168<>\"\",'infos échantillons'!$E$168,\"\")","v":""},{"$f":"IF('infos échantillons'!E176<>\"\",'infos échantillons'!$E$176,\"\")","v":""},{"$f":"IF('infos échantillons'!E184<>\"\",'infos échantillons'!$E$184,\"\")","v":""},{"$f":"IF('infos échantillons'!E192<>\"\",'infos échantillons'!$E$192,\"\")","v":""},{"$f":"IF('infos échantillons'!E200<>\"\",'infos échantillons'!$E$200,\"\")","v":""},{"$f":"IF('infos échantillons'!E208<>\"\",'infos échantillons'!$E$208,\"\")","v":""},{"$f":"IF('infos échantillons'!E216<>\"\",'infos échantillons'!$E$216,\"\")","v":""},{"$f":"IF('infos échantillons'!E224<>\"\",'infos échantillons'!$E$224,\"\")","v":""}]
[null,null,"B",{"$f":"IF('infos échantillons'!E137<>\"\",'infos échantillons'!$E$137,\"\")","v":""},{"$f":"IF('infos échantillons'!E145<>\"\",'infos échantillons'!$E$145,\"\")","v":""},{"$f":"IF('infos échantillons'!E153<>\"\",'infos échantillons'!$E$153,\"\")","v":""},{"$f":"IF('infos échantillons'!E161<>\"\",'infos échantillons'!$E$161,\"\")","v":""},{"$f":"IF('infos échantillons'!E169<>\"\",'infos échantillons'!$E$169,\"\")","v":""},{"$f":"IF('infos échantillons'!E177<>\"\",'infos échantillons'!$E$177,\"\")","v":""},{"$f":"IF('infos échantillons'!E185<>\"\",'infos échantillons'!$E$185,\"\")","v":""},{"$f":"IF('infos échantillons'!E193<>\"\",'infos échantillons'!$E$193,\"\")","v":""},{"$f":"IF('infos échantillons'!E201<>\"\",'infos échantillons'!$E$201,\"\")","v":""},{"$f":"IF('infos échantillons'!E209<>\"\",'infos échantillons'!$E$209,\"\")","v":""},{"$f":"IF('infos échantillons'!E217<>\"\",'infos échantillons'!$E$217,\"\")","v":""},{"$f":"IF('infos échantillons'!E225<>\"\",'infos échantillons'!$E$225,\"\")","v":""}]
[null,null,"C",{"$f":"IF('infos échantillons'!E138<>\"\",'infos échantillons'!$E$138,\"\")","v":""},{"$f":"IF('infos échantillons'!E146<>\"\",'infos échantillons'!$E$146,\"\")","v":""},{"$f":"IF('infos échantillons'!E154<>\"\",'infos échantillons'!$E$154,\"\")","v":""},{"$f":"IF('infos échantillons'!E162<>\"\",'infos échantillons'!$E$162,\"\")","v":""},{"$f":"IF('infos échantillons'!E170<>\"\",'infos échantillons'!$E$170,\"\")","v":""},{"$f":"IF('infos échantillons'!E178<>\"\",'infos échantillons'!$E$178,\"\")","v":""},{"$f":"IF('infos échantillons'!E186<>\"\",'infos échantillons'!$E$186,\"\")","v":""},{"$f":"IF('infos échantillons'!E194<>\"\",'infos échantillons'!$E$194,\"\")","v":""},{"$f":"IF('infos échantillons'!E202<>\"\",'infos échantillons'!$E$202,\"\")","v":""},{"$f":"IF('infos échantillons'!E210<>\"\",'infos échantillons'!$E$210,\"\")","v":""},{"$f":"IF('infos échantillons'!E218<>\"\",'infos échantillons'!$E$218,\"\")","v":""},{"$f":"IF('infos échantillons'!E226<>\"\",'infos échantillons'!$E$226,\"\")","v":""}]
[null,null,"D",{"$f":"IF('infos échantillons'!E139<>\"\",'infos échantillons'!$E$139,\"\")","v":""},{"$f":"IF('infos échantillons'!E147<>\"\",'infos échantillons'!$E$147,\"\")","v":""},{"$f":"IF('infos échantillons'!E155<>\"\",'infos échantillons'!$E$155,\"\")","v":""},{"$f":"IF('infos échantillons'!E163<>\"\",'infos échantillons'!$E$163,\"\")","v":""},{"$f":"IF('infos échantillons'!E171<>\"\",'infos échantillons'!$E$171,\"\")","v":""},{"$f":"IF('infos échantillons'!E179<>\"\",'infos échantillons'!$E$179,\"\")","v":""},{"$f":"IF('infos échantillons'!E187<>\"\",'infos échantillons'!$E$187,\"\")","v":""},{"$f":"IF('infos échantillons'!E195<>\"\",'infos échantillons'!$E$195,\"\")","v":""},{"$f":"IF('infos échantillons'!E203<>\"\",'infos échantillons'!$E$203,\"\")","v":""},{"$f":"IF('infos échantillons'!E211<>\"\",'infos échantillons'!$E$211,\"\")","v":""},{"$f":"IF('infos échantillons'!E219<>\"\",'infos échantillons'!$E$219,\"\")","v":""},{"$f":"IF('infos échantillons'!E227<>\"\",'infos échantillons'!$E$227,\"\")","v":""}]
[null,null,"E",{"$f":"IF('infos échantillons'!E140<>\"\",'infos échantillons'!$E$140,\"\")","v":""},{"$f":"IF('infos échantillons'!E148<>\"\",'infos échantillons'!$E$148,\"\")","v":""},{"$f":"IF('infos échantillons'!E156<>\"\",'infos échantillons'!$E$156,\"\")","v":""},{"$f":"IF('infos échantillons'!E164<>\"\",'infos échantillons'!$E$164,\"\")","v":""},{"$f":"IF('infos échantillons'!E172<>\"\",'infos échantillons'!$E$172,\"\")","v":""},{"$f":"IF('infos échantillons'!E180<>\"\",'infos échantillons'!$E$180,\"\")","v":""},{"$f":"IF('infos échantillons'!E188<>\"\",'infos échantillons'!$E$188,\"\")","v":""},{"$f":"IF('infos échantillons'!E196<>\"\",'infos échantillons'!$E$196,\"\")","v":""},{"$f":"IF('infos échantillons'!E204<>\"\",'infos échantillons'!$E$204,\"\")","v":""},{"$f":"IF('infos échantillons'!E212<>\"\",'infos échantillons'!$E$212,\"\")","v":""},{"$f":"IF('infos échantillons'!E220<>\"\",'infos échantillons'!$E$220,\"\")","v":""},{"$f":"IF('infos échantillons'!E228<>\"\",'infos échantillons'!$E$228,\"\")","v":""}]
[null,null,"F",{"$f":"IF('infos échantillons'!E141<>\"\",'infos échantillons'!$E$141,\"\")","v":""},{"$f":"IF('infos échantillons'!E149<>\"\",'infos échantillons'!$E$149,\"\")","v":""},{"$f":"IF('infos échantillons'!E157<>\"\",'infos échantillons'!$E$157,\"\")","v":""},{"$f":"IF('infos échantillons'!E165<>\"\",'infos échantillons'!$E$165,\"\")","v":""},{"$f":"IF('infos échantillons'!E173<>\"\",'infos échantillons'!$E$173,\"\")","v":""},{"$f":"IF('infos échantillons'!E181<>\"\",'infos échantillons'!$E$181,\"\")","v":""},{"$f":"IF('infos échantillons'!E189<>\"\",'infos échantillons'!$E$189,\"\")","v":""},{"$f":"IF('infos échantillons'!E197<>\"\",'infos échantillons'!$E$197,\"\")","v":""},{"$f":"IF('infos échantillons'!E205<>\"\",'infos échantillons'!$E$205,\"\")","v":""},{"$f":"IF('infos échantillons'!E213<>\"\",'infos échantillons'!$E$213,\"\")","v":""},{"$f":"IF('infos échantillons'!E221<>\"\",'infos échantillons'!$E$221,\"\")","v":""},{"$f":"IF('infos échantillons'!E229<>\"\",'infos échantillons'!$E$229,\"\")","v":""}]
[null,null,"G",{"$f":"IF('infos échantillons'!E142<>\"\",'infos échantillons'!$E$142,\"\")","v":""},{"$f":"IF('infos échantillons'!E150<>\"\",'infos échantillons'!$E$150,\"\")","v":""},{"$f":"IF('infos échantillons'!E158<>\"\",'infos échantillons'!$E$158,\"\")","v":""},{"$f":"IF('infos échantillons'!E166<>\"\",'infos échantillons'!$E$166,\"\")","v":""},{"$f":"IF('infos échantillons'!E174<>\"\",'infos échantillons'!$E$174,\"\")","v":""},{"$f":"IF('infos échantillons'!E182<>\"\",'infos échantillons'!$E$182,\"\")","v":""},{"$f":"IF('infos échantillons'!E190<>\"\",'infos échantillons'!$E$190,\"\")","v":""},{"$f":"IF('infos échantillons'!E198<>\"\",'infos échantillons'!$E$198,\"\")","v":""},{"$f":"IF('infos échantillons'!E206<>\"\",'infos échantillons'!$E$206,\"\")","v":""},{"$f":"IF('infos échantillons'!E214<>\"\",'infos échantillons'!$E$214,\"\")","v":""},{"$f":"IF('infos échantillons'!E222<>\"\",'infos échantillons'!$E$222,\"\")","v":""},{"$f":"IF('infos échantillons'!E230<>\"\",'infos échantillons'!$E$230,\"\")","v":""}]
[null,null,"H",{"$f":"IF('infos échantillons'!E143<>\"\",'infos échantillons'!$E$143,\"\")","v":""},{"$f":"IF('infos échantillons'!E151<>\"\",'infos échantillons'!$E$151,\"\")","v":""},{"$f":"IF('infos échantillons'!E159<>\"\",'infos échantillons'!$E$159,\"\")","v":""},{"$f":"IF('infos échantillons'!E167<>\"\",'infos échantillons'!$E$167,\"\")","v":""},{"$f":"IF('infos échantillons'!E175<>\"\",'infos échantillons'!$E$175,\"\")","v":""},{"$f":"IF('infos échantillons'!E183<>\"\",'infos échantillons'!$E$183,\"\")","v":""},{"$f":"IF('infos échantillons'!E191<>\"\",'infos échantillons'!$E$191,\"\")","v":""},{"$f":"IF('infos échantillons'!E199<>\"\",'infos échantillons'!$E$199,\"\")","v":""},{"$f":"IF('infos échantillons'!E207<>\"\",'infos échantillons'!$E$207,\"\")","v":""},{"$f":"IF('infos échantillons'!E215<>\"\",'infos échantillons'!$E$215,\"\")","v":""},{"$f":"IF('infos échantillons'!E223<>\"\",'infos échantillons'!$E$223,\"\")","v":""},{"$f":"IF('infos échantillons'!E231<>\"\",'infos échantillons'!$E$231,\"\")","v":""}]
[]
[]
["ADN 3",null,null,1,2,3,4,5,6,7,8,9,10,11,12]
[null,null,"A",{"$f":"IF('infos échantillons'!E232<>\"\",'infos échantillons'!$E$232,\"\")","v":""},{"$f":"IF('infos échantillons'!E240<>\"\",'infos échantillons'!$E$240,\"\")","v":""},{"$f":"IF('infos échantillons'!E248<>\"\",'infos échantillons'!$E$248,\"\")","v":""},{"$f":"IF('infos échantillons'!E256<>\"\",'infos échantillons'!$E$256,\"\")","v":""},{"$f":"IF('infos échantillons'!E264<>\"\",'infos échantillons'!$E$264,\"\")","v":""},{"$f":"IF('infos échantillons'!E272<>\"\",'infos échantillons'!$E$272,\"\")","v":""},{"$f":"IF('infos échantillons'!E280<>\"\",'infos échantillons'!$E$280,\"\")","v":""},{"$f":"IF('infos échantillons'!E288<>\"\",'infos échantillons'!$E$288,\"\")","v":""},{"$f":"IF('infos échantillons'!E296<>\"\",'infos échantillons'!$E$296,\"\")","v":""},{"$f":"IF('infos échantillons'!E304<>\"\",'infos échantillons'!$E$304,\"\")","v":""},{"$f":"IF('infos échantillons'!E312<>\"\",'infos échantillons'!$E$312,\"\")","v":""},{"$f":"IF('infos échantillons'!E320<>\"\",'infos échantillons'!$E$320,\"\")","v":""}]
[null,null,"B",{"$f":"IF('infos échantillons'!E233<>\"\",'infos échantillons'!$E$233,\"\")","v":""},{"$f":"IF('infos échantillons'!E241<>\"\",'infos échantillons'!$E$241,\"\")","v":""},{"$f":"IF('infos échantillons'!E249<>\"\",'infos échantillons'!$E$249,\"\")","v":""},{"$f":"IF('infos échantillons'!E257<>\"\",'infos échantillons'!$E$257,\"\")","v":""},{"$f":"IF('infos échantillons'!E265<>\"\",'infos échantillons'!$E$265,\"\")","v":""},{"$f":"IF('infos échantillons'!E273<>\"\",'infos échantillons'!$E$273,\"\")","v":""},{"$f":"IF('infos échantillons'!E281<>\"\",'infos échantillons'!$E$281,\"\")","v":""},{"$f":"IF('infos échantillons'!E289<>\"\",'infos échantillons'!$E$289,\"\")","v":""},{"$f":"IF('infos échantillons'!E297<>\"\",'infos échantillons'!$E$297,\"\")","v":""},{"$f":"IF('infos échantillons'!E305<>\"\",'infos échantillons'!$E$305,\"\")","v":""},{"$f":"IF('infos échantillons'!E313<>\"\",'infos échantillons'!$E$313,\"\")","v":""},{"$f":"IF('infos échantillons'!E321<>\"\",'infos échantillons'!$E$321,\"\")","v":""}]
[null,null,"C",{"$f":"IF('infos échantillons'!E234<>\"\",'infos échantillons'!$E$234,\"\")","v":""},{"$f":"IF('infos échantillons'!E242<>\"\",'infos échantillons'!$E$242,\"\")","v":""},{"$f":"IF('infos échantillons'!E250<>\"\",'infos échantillons'!$E$250,\"\")","v":""},{"$f":"IF('infos échantillons'!E258<>\"\",'infos échantillons'!$E$258,\"\")","v":""},{"$f":"IF('infos échantillons'!E266<>\"\",'infos échantillons'!$E$266,\"\")","v":""},{"$f":"IF('infos échantillons'!E274<>\"\",'infos échantillons'!$E$274,\"\")","v":""},{"$f":"IF('infos échantillons'!E282<>\"\",'infos échantillons'!$E$282,\"\")","v":""},{"$f":"IF('infos échantillons'!E290<>\"\",'infos échantillons'!$E$290,\"\")","v":""},{"$f":"IF('infos échantillons'!E298<>\"\",'infos échantillons'!$E$298,\"\")","v":""},{"$f":"IF('infos échantillons'!E306<>\"\",'infos échantillons'!$E$306,\"\")","v":""},{"$f":"IF('infos échantillons'!E314<>\"\",'infos échantillons'!$E$314,\"\")","v":""},{"$f":"IF('infos échantillons'!E322<>\"\",'infos échantillons'!$E$322,\"\")","v":""}]
[null,null,"D",{"$f":"IF('infos échantillons'!E235<>\"\",'infos échantillons'!$E$235,\"\")","v":""},{"$f":"IF('infos échantillons'!E243<>\"\",'infos échantillons'!$E$243,\"\")","v":""},{"$f":"IF('infos échantillons'!E251<>\"\",'infos échantillons'!$E$251,\"\")","v":""},{"$f":"IF('infos échantillons'!E259<>\"\",'infos échantillons'!$E$259,\"\")","v":""},{"$f":"IF('infos échantillons'!E267<>\"\",'infos échantillons'!$E$267,\"\")","v":""},{"$f":"IF('infos échantillons'!E275<>\"\",'infos échantillons'!$E$275,\"\")","v":""},{"$f":"IF('infos échantillons'!E283<>\"\",'infos échantillons'!$E$283,\"\")","v":""},{"$f":"IF('infos échantillons'!E291<>\"\",'infos échantillons'!$E$291,\"\")","v":""},{"$f":"IF('infos échantillons'!E299<>\"\",'infos échantillons'!$E$299,\"\")","v":""},{"$f":"IF('infos échantillons'!E307<>\"\",'infos échantillons'!$E$307,\"\")","v":""},{"$f":"IF('infos échantillons'!E315<>\"\",'infos échantillons'!$E$315,\"\")","v":""},{"$f":"IF('infos échantillons'!E323<>\"\",'infos échantillons'!$E$323,\"\")","v":""}]
[null,null,"E",{"$f":"IF('infos échantillons'!E236<>\"\",'infos échantillons'!$E$236,\"\")","v":""},{"$f":"IF('infos échantillons'!E244<>\"\",'infos échantillons'!$E$244,\"\")","v":""},{"$f":"IF('infos échantillons'!E252<>\"\",'infos échantillons'!$E$252,\"\")","v":""},{"$f":"IF('infos échantillons'!E260<>\"\",'infos échantillons'!$E$260,\"\")","v":""},{"$f":"IF('infos échantillons'!E268<>\"\",'infos échantillons'!$E$268,\"\")","v":""},{"$f":"IF('infos échantillons'!E276<>\"\",'infos échantillons'!$E$276,\"\")","v":""},{"$f":"IF('infos échantillons'!E284<>\"\",'infos échantillons'!$E$284,\"\")","v":""},{"$f":"IF('infos échantillons'!E292<>\"\",'infos échantillons'!$E$292,\"\")","v":""},{"$f":"IF('infos échantillons'!E300<>\"\",'infos échantillons'!$E$300,\"\")","v":""},{"$f":"IF('infos échantillons'!E308<>\"\",'infos échantillons'!$E$308,\"\")","v":""},{"$f":"IF('infos échantillons'!E316<>\"\",'infos échantillons'!$E$316,\"\")","v":""},{"$f":"IF('infos échantillons'!E324<>\"\",'infos échantillons'!$E$324,\"\")","v":""}]
[null,null,"F",{"$f":"IF('infos échantillons'!E237<>\"\",'infos échantillons'!$E$237,\"\")","v":""},{"$f":"IF('infos échantillons'!E245<>\"\",'infos échantillons'!$E$245,\"\")","v":""},{"$f":"IF('infos échantillons'!E253<>\"\",'infos échantillons'!$E$253,\"\")","v":""},{"$f":"IF('infos échantillons'!E261<>\"\",'infos échantillons'!$E$261,\"\")","v":""},{"$f":"IF('infos échantillons'!E269<>\"\",'infos échantillons'!$E$269,\"\")","v":""},{"$f":"IF('infos échantillons'!E277<>\"\",'infos échantillons'!$E$277,\"\")","v":""},{"$f":"IF('infos échantillons'!E285<>\"\",'infos échantillons'!$E$285,\"\")","v":""},{"$f":"IF('infos échantillons'!E293<>\"\",'infos échantillons'!$E$293,\"\")","v":""},{"$f":"IF('infos échantillons'!E301<>\"\",'infos échantillons'!$E$301,\"\")","v":""},{"$f":"IF('infos échantillons'!E309<>\"\",'infos échantillons'!$E$309,\"\")","v":""},{"$f":"IF('infos échantillons'!E317<>\"\",'infos échantillons'!$E$317,\"\")","v":""},{"$f":"IF('infos échantillons'!E325<>\"\",'infos échantillons'!$E$325,\"\")","v":""}]
[null,null,"G",{"$f":"IF('infos échantillons'!E238<>\"\",'infos échantillons'!$E$238,\"\")","v":""},{"$f":"IF('infos échantillons'!E246<>\"\",'infos échantillons'!$E$246,\"\")","v":""},{"$f":"IF('infos échantillons'!E254<>\"\",'infos échantillons'!$E$254,\"\")","v":""},{"$f":"IF('infos échantillons'!E262<>\"\",'infos échantillons'!$E$262,\"\")","v":""},{"$f":"IF('infos échantillons'!E270<>\"\",'infos échantillons'!$E$270,\"\")","v":""},{"$f":"IF('infos échantillons'!E278<>\"\",'infos échantillons'!$E$278,\"\")","v":""},{"$f":"IF('infos échantillons'!E286<>\"\",'infos échantillons'!$E$286,\"\")","v":""},{"$f":"IF('infos échantillons'!E294<>\"\",'infos échantillons'!$E$294,\"\")","v":""},{"$f":"IF('infos échantillons'!E302<>\"\",'infos échantillons'!$E$302,\"\")","v":""},{"$f":"IF('infos échantillons'!E310<>\"\",'infos échantillons'!$E$310,\"\")","v":""},{"$f":"IF('infos échantillons'!E318<>\"\",'infos échantillons'!$E$318,\"\")","v":""},{"$f":"IF('infos échantillons'!E326<>\"\",'infos échantillons'!$E$326,\"\")","v":""}]
[null,null,"H",{"$f":"IF('infos échantillons'!E239<>\"\",'infos échantillons'!$E$239,\"\")","v":""},{"$f":"IF('infos échantillons'!E247<>\"\",'infos échantillons'!$E$247,\"\")","v":""},{"$f":"IF('infos échantillons'!E255<>\"\",'infos échantillons'!$E$255,\"\")","v":""},{"$f":"IF('infos échantillons'!E263<>\"\",'infos échantillons'!$E$263,\"\")","v":""},{"$f":"IF('infos échantillons'!E271<>\"\",'infos échantillons'!$E$271,\"\")","v":""},{"$f":"IF('infos échantillons'!E279<>\"\",'infos échantillons'!$E$279,\"\")","v":""},{"$f":"IF('infos échantillons'!E287<>\"\",'infos échantillons'!$E$287,\"\")","v":""},{"$f":"IF('infos échantillons'!E295<>\"\",'infos échantillons'!$E$295,\"\")","v":""},{"$f":"IF('infos échantillons'!E303<>\"\",'infos échantillons'!$E$303,\"\")","v":""},{"$f":"IF('infos échantillons'!E311<>\"\",'infos échantillons'!$E$311,\"\")","v":""},{"$f":"IF('infos échantillons'!E319<>\"\",'infos échantillons'!$E$319,\"\")","v":""},{"$f":"IF('infos échantillons'!E327<>\"\",'infos échantillons'!$E$327,\"\")","v":""}]
[]
[]
["ADN 4",null,null,1,2,3,4,5,6,7,8,9,10,11,12]
[null,null,"A",{"$f":"IF('infos échantillons'!E328<>\"\",'infos échantillons'!$E$328,\"\")","v":""},{"$f":"IF('infos échantillons'!E336<>\"\",'infos échantillons'!$E$336,\"\")","v":""},{"$f":"IF('infos échantillons'!E344<>\"\",'infos échantillons'!$E$344,\"\")","v":""},{"$f":"IF('infos échantillons'!E352<>\"\",'infos échantillons'!$E$352,\"\")","v":""},{"$f":"IF('infos échantillons'!E360<>\"\",'infos échantillons'!$E$360,\"\")","v":""},{"$f":"IF('infos échantillons'!E368<>\"\",'infos échantillons'!$E$368,\"\")","v":""},{"$f":"IF('infos échantillons'!E376<>\"\",'infos échantillons'!$E$376,\"\")","v":""},{"$f":"IF('infos échantillons'!E384<>\"\",'infos échantillons'!$E$384,\"\")","v":""},{"$f":"IF('infos échantillons'!E392<>\"\",'infos échantillons'!$E$392,\"\")","v":""},{"$f":"IF('infos échantillons'!E400<>\"\",'infos échantillons'!$E$400,\"\")","v":""},{"$f":"IF('infos échantillons'!E408<>\"\",'infos échantillons'!$E$408,\"\")","v":""},{"$f":"IF('infos échantillons'!E416<>\"\",'infos échantillons'!$E$416,\"\")","v":""}]
[null,null,"B",{"$f":"IF('infos échantillons'!E329<>\"\",'infos échantillons'!$E$329,\"\")","v":""},{"$f":"IF('infos échantillons'!E337<>\"\",'infos échantillons'!$E$337,\"\")","v":""},{"$f":"IF('infos échantillons'!E345<>\"\",'infos échantillons'!$E$345,\"\")","v":""},{"$f":"IF('infos échantillons'!E353<>\"\",'infos échantillons'!$E$353,\"\")","v":""},{"$f":"IF('infos échantillons'!E361<>\"\",'infos échantillons'!$E$361,\"\")","v":""},{"$f":"IF('infos échantillons'!E369<>\"\",'infos échantillons'!$E$369,\"\")","v":""},{"$f":"IF('infos échantillons'!E377<>\"\",'infos échantillons'!$E$377,\"\")","v":""},{"$f":"IF('infos échantillons'!E385<>\"\",'infos échantillons'!$E$385,\"\")","v":""},{"$f":"IF('infos échantillons'!E393<>\"\",'infos échantillons'!$E$393,\"\")","v":""},{"$f":"IF('infos échantillons'!E401<>\"\",'infos échantillons'!$E$401,\"\")","v":""},{"$f":"IF('infos échantillons'!E409<>\"\",'infos échantillons'!$E$409,\"\")","v":""},{"$f":"IF('infos échantillons'!E417<>\"\",'infos échantillons'!$E$417,\"\")","v":""}]
[null,null,"C",{"$f":"IF('infos échantillons'!E330<>\"\",'infos échantillons'!$E$330,\"\")","v":""},{"$f":"IF('infos échantillons'!E338<>\"\",'infos échantillons'!$E$338,\"\")","v":""},{"$f":"IF('infos échantillons'!E346<>\"\",'infos échantillons'!$E$346,\"\")","v":""},{"$f":"IF('infos échantillons'!E354<>\"\",'infos échantillons'!$E$354,\"\")","v":""},{"$f":"IF('infos échantillons'!E362<>\"\",'infos échantillons'!$E$362,\"\")","v":""},{"$f":"IF('infos échantillons'!E370<>\"\",'infos échantillons'!$E$370,\"\")","v":""},{"$f":"IF('infos échantillons'!E378<>\"\",'infos échantillons'!$E$378,\"\")","v":""},{"$f":"IF('infos échantillons'!E386<>\"\",'infos échantillons'!$E$386,\"\")","v":""},{"$f":"IF('infos échantillons'!E394<>\"\",'infos échantillons'!$E$394,\"\")","v":""},{"$f":"IF('infos échantillons'!E402<>\"\",'infos échantillons'!$E$402,\"\")","v":""},{"$f":"IF('infos échantillons'!E410<>\"\",'infos échantillons'!$E$410,\"\")","v":""},{"$f":"IF('infos échantillons'!E418<>\"\",'infos échantillons'!$E$418,\"\")","v":""}]
[null,null,"D",{"$f":"IF('infos échantillons'!E331<>\"\",'infos échantillons'!$E$331,\"\")","v":""},{"$f":"IF('infos échantillons'!E339<>\"\",'infos échantillons'!$E$339,\"\")","v":""},{"$f":"IF('infos échantillons'!E347<>\"\",'infos échantillons'!$E$347,\"\")","v":""},{"$f":"IF('infos échantillons'!E355<>\"\",'infos échantillons'!$E$355,\"\")","v":""},{"$f":"IF('infos échantillons'!E363<>\"\",'infos échantillons'!$E$363,\"\")","v":""},{"$f":"IF('infos échantillons'!E371<>\"\",'infos échantillons'!$E$371,\"\")","v":""},{"$f":"IF('infos échantillons'!E379<>\"\",'infos échantillons'!$E$379,\"\")","v":""},{"$f":"IF('infos échantillons'!E387<>\"\",'infos échantillons'!$E$387,\"\")","v":""},{"$f":"IF('infos échantillons'!E395<>\"\",'infos échantillons'!$E$395,\"\")","v":""},{"$f":"IF('infos échantillons'!E403<>\"\",'infos échantillons'!$E$403,\"\")","v":""},{"$f":"IF('infos échantillons'!E411<>\"\",'infos échantillons'!$E$411,\"\")","v":""},{"$f":"IF('infos échantillons'!E419<>\"\",'infos échantillons'!$E$419,\"\")","v":""}]
[null,null,"E",{"$f":"IF('infos échantillons'!E332<>\"\",'infos échantillons'!$E$332,\"\")","v":""},{"$f":"IF('infos échantillons'!E340<>\"\",'infos échantillons'!$E$340,\"\")","v":""},{"$f":"IF('infos échantillons'!E348<>\"\",'infos échantillons'!$E$348,\"\")","v":""},{"$f":"IF('infos échantillons'!E356<>\"\",'infos échantillons'!$E$356,\"\")","v":""},{"$f":"IF('infos échantillons'!E364<>\"\",'infos échantillons'!$E$364,\"\")","v":""},{"$f":"IF('infos échantillons'!E372<>\"\",'infos échantillons'!$E$372,\"\")","v":""},{"$f":"IF('infos échantillons'!E380<>\"\",'infos échantillons'!$E$380,\"\")","v":""},{"$f":"IF('infos échantillons'!E388<>\"\",'infos échantillons'!$E$388,\"\")","v":""},{"$f":"IF('infos échantillons'!E396<>\"\",'infos échantillons'!$E$396,\"\")","v":""},{"$f":"IF('infos échantillons'!E404<>\"\",'infos échantillons'!$E$404,\"\")","v":""},{"$f":"IF('infos échantillons'!E412<>\"\",'infos échantillons'!$E$412,\"\")","v":""},{"$f":"IF('infos échantillons'!E420<>\"\",'infos échantillons'!$E$420,\"\")","v":""}]
[null,null,"F",{"$f":"IF('infos échantillons'!E333<>\"\",'infos échantillons'!$E$333,\"\")","v":""},{"$f":"IF('infos échantillons'!E341<>\"\",'infos échantillons'!$E$341,\"\")","v":""},{"$f":"IF('infos échantillons'!E349<>\"\",'infos échantillons'!$E$349,\"\")","v":""},{"$f":"IF('infos échantillons'!E357<>\"\",'infos échantillons'!$E$357,\"\")","v":""},{"$f":"IF('infos échantillons'!E365<>\"\",'infos échantillons'!$E$365,\"\")","v":""},{"$f":"IF('infos échantillons'!E373<>\"\",'infos échantillons'!$E$373,\"\")","v":""},{"$f":"IF('infos échantillons'!E381<>\"\",'infos échantillons'!$E$381,\"\")","v":""},{"$f":"IF('infos échantillons'!E389<>\"\",'infos échantillons'!$E$389,\"\")","v":""},{"$f":"IF('infos échantillons'!E397<>\"\",'infos échantillons'!$E$397,\"\")","v":""},{"$f":"IF('infos échantillons'!E405<>\"\",'infos échantillons'!$E$405,\"\")","v":""},{"$f":"IF('infos échantillons'!E413<>\"\",'infos échantillons'!$E$413,\"\")","v":""},{"$f":"IF('infos échantillons'!E421<>\"\",'infos échantillons'!$E$421,\"\")","v":""}]
[null,null,"G",{"$f":"IF('infos échantillons'!E334<>\"\",'infos échantillons'!$E$334,\"\")","v":""},{"$f":"IF('infos échantillons'!E342<>\"\",'infos échantillons'!$E$342,\"\")","v":""},{"$f":"IF('infos échantillons'!E350<>\"\",'infos échantillons'!$E$350,\"\")","v":""},{"$f":"IF('infos échantillons'!E358<>\"\",'infos échantillons'!$E$358,\"\")","v":""},{"$f":"IF('infos échantillons'!E366<>\"\",'infos échantillons'!$E$366,\"\")","v":""},{"$f":"IF('infos échantillons'!E374<>\"\",'infos échantillons'!$E$374,\"\")","v":""},{"$f":"IF('infos échantillons'!E382<>\"\",'infos échantillons'!$E$382,\"\")","v":""},{"$f":"IF('infos échantillons'!E390<>\"\",'infos échantillons'!$E$390,\"\")","v":""},{"$f":"IF('infos échantillons'!E398<>\"\",'infos échantillons'!$E$398,\"\")","v":""},{"$f":"IF('infos échantillons'!E406<>\"\",'infos échantillons'!$E$406,\"\")","v":""},{"$f":"IF('infos échantillons'!E414<>\"\",'infos échantillons'!$E$414,\"\")","v":""},{"$f":"IF('infos échantillons'!E422<>\"\",'infos échantillons'!$E$422,\"\")","v":""}]
[null,null,"H",{"$f":"IF('infos échantillons'!E335<>\"\",'infos échantillons'!$E$335,\"\")","v":""},{"$f":"IF('infos échantillons'!E343<>\"\",'infos échantillons'!$E$343,\"\")","v":""},{"$f":"IF('infos échantillons'!E351<>\"\",'infos échantillons'!$E$351,\"\")","v":""},{"$f":"IF('infos échantillons'!E359<>\"\",'infos échantillons'!$E$359,\"\")","v":""},{"$f":"IF('infos échantillons'!E367<>\"\",'infos échantillons'!$E$367,\"\")","v":""},{"$f":"IF('infos échantillons'!E375<>\"\",'infos échantillons'!$E$375,\"\")","v":""},{"$f":"IF('infos échantillons'!E383<>\"\",'infos échantillons'!$E$383,\"\")","v":""},{"$f":"IF('infos échantillons'!E391<>\"\",'infos échantillons'!$E$391,\"\")","v":""},{"$f":"IF('infos échantillons'!E399<>\"\",'infos échantillons'!$E$399,\"\")","v":""},{"$f":"IF('infos échantillons'!E407<>\"\",'infos échantillons'!$E$407,\"\")","v":""},{"$f":"IF('infos échantillons'!E415<>\"\",'infos échantillons'!$E$415,\"\")","v":""},{"$f":"IF('infos échantillons'!E423<>\"\",'infos échantillons'!$E$423,\"\")","v":""}]

{"sheet":"Pre-requis bioinfo ADN","index":2,"n_rows":6,"n_cols":2,"rows_kept":6,"cut":false,"hidden":false,"merged":[]}
["Pré-requis bioinformatiques pour le projet :"]
[]
["Génome de référence (facultatif)","lien vers .fasta / pas de référence"]
["Format de fichier souhaité pour le téléchargement des données de séquences","fastq.gz"]
["Nom du Bio-Informaticien"]
["Mail / Tel du bioinfo"]

{"sheet":"Version","index":3,"n_rows":1,"n_cols":1,"rows_kept":1,"cut":false,"hidden":false,"merged":[]}
["2023-02-27T17:10:00"]